Package: MSstatsQC Version: 2.25.0 Command: /Library/Frameworks/R.framework/Resources/bin/R CMD check --install=check:MSstatsQC.install-out.txt --library=/Library/Frameworks/R.framework/Resources/library --no-vignettes --timings MSstatsQC_2.25.0.tar.gz StartedAt: 2025-02-20 21:53:48 -0500 (Thu, 20 Feb 2025) EndedAt: 2025-02-20 21:58:50 -0500 (Thu, 20 Feb 2025) EllapsedTime: 301.5 seconds RetCode: 0 Status: OK CheckDir: MSstatsQC.Rcheck Warnings: 0