Package: MSstatsPTM Version: 2.9.1 Command: E:\biocbuild\bbs-3.21-bioc\R\bin\R.exe CMD check --no-multiarch --install=check:MSstatsPTM.install-out.txt --library=E:\biocbuild\bbs-3.21-bioc\R\library --no-vignettes --timings MSstatsPTM_2.9.1.tar.gz StartedAt: 2025-02-21 03:40:59 -0500 (Fri, 21 Feb 2025) EndedAt: 2025-02-21 03:45:35 -0500 (Fri, 21 Feb 2025) EllapsedTime: 275.7 seconds RetCode: 0 Status: OK CheckDir: MSstatsPTM.Rcheck Warnings: 0