Package: MSstatsPTM Version: 2.9.1 Command: rm -rf MSstatsPTM.buildbin-libdir && mkdir MSstatsPTM.buildbin-libdir && E:\biocbuild\bbs-3.21-bioc\R\bin\R.exe CMD INSTALL --build --library=MSstatsPTM.buildbin-libdir MSstatsPTM_2.9.1.tar.gz StartedAt: 2025-02-21 08:37:18 -0500 (Fri, 21 Feb 2025) EndedAt: 2025-02-21 08:38:16 -0500 (Fri, 21 Feb 2025) EllapsedTime: 57.8 seconds RetCode: 0 Status: OK PackageFile: MSstatsPTM_2.9.1.zip PackageFileSize: 2.256 MiB