Package: MSstatsPTM Version: 2.9.1 Command: /home/biocbuild/bbs-3.21-bioc/R/bin/R CMD build --keep-empty-dirs --no-resave-data MSstatsPTM StartedAt: 2025-02-20 18:23:00 -0500 (Thu, 20 Feb 2025) EndedAt: 2025-02-20 18:24:12 -0500 (Thu, 20 Feb 2025) EllapsedTime: 72.1 seconds RetCode: 0 Status: OK PackageFile: MSstatsPTM_2.9.1.tar.gz PackageFileSize: 2.804 MiB