Package: MSstatsPTM Version: 2.9.1 Command: /home/biocbuild/R/R/bin/R CMD INSTALL MSstatsPTM StartedAt: 2025-01-29 20:23:55 -0000 (Wed, 29 Jan 2025) EndedAt: 2025-01-29 20:24:35 -0000 (Wed, 29 Jan 2025) EllapsedTime: 39.8 seconds RetCode: 0 Status: OK