Package: MSstatsPTM Version: 2.9.1 Command: /Library/Frameworks/R.framework/Resources/bin/R CMD INSTALL MSstatsPTM StartedAt: 2025-02-20 15:23:36 -0500 (Thu, 20 Feb 2025) EndedAt: 2025-02-20 15:23:46 -0500 (Thu, 20 Feb 2025) EllapsedTime: 10.3 seconds RetCode: 0 Status: OK