Package: MSstatsPTM Version: 2.9.1 Command: /Library/Frameworks/R.framework/Resources/bin/R CMD check --install=check:MSstatsPTM.install-out.txt --library=/Library/Frameworks/R.framework/Resources/library --no-vignettes --timings MSstatsPTM_2.9.1.tar.gz StartedAt: 2025-02-20 20:23:28 -0500 (Thu, 20 Feb 2025) EndedAt: 2025-02-20 20:24:45 -0500 (Thu, 20 Feb 2025) EllapsedTime: 76.9 seconds RetCode: 0 Status: OK CheckDir: MSstatsPTM.Rcheck Warnings: 0