Package: MSstatsPTM Version: 2.9.1 Command: /Library/Frameworks/R.framework/Resources/bin/R CMD build --keep-empty-dirs --no-resave-data MSstatsPTM StartedAt: 2025-02-20 17:04:04 -0500 (Thu, 20 Feb 2025) EndedAt: 2025-02-20 17:04:31 -0500 (Thu, 20 Feb 2025) EllapsedTime: 27.4 seconds RetCode: 0 Status: OK PackageFile: MSstatsPTM_2.9.1.tar.gz PackageFileSize: 2.819 MiB