Package: MSstatsPTM Version: 2.9.1 Command: rm -rf MSstatsPTM.buildbin-libdir && mkdir MSstatsPTM.buildbin-libdir && /Users/biocbuild/BBS/utils/build-universal.sh MSstatsPTM_2.9.1.tar.gz /Library/Frameworks/R.framework/Resources/bin/R MSstatsPTM.buildbin-libdir StartedAt: 2025-02-20 22:27:16 -0500 (Thu, 20 Feb 2025) EndedAt: 2025-02-20 22:27:28 -0500 (Thu, 20 Feb 2025) EllapsedTime: 12.3 seconds RetCode: 0 Status: OK PackageFile: MSstatsPTM_2.9.1.tgz PackageFileSize: 3.228 MiB