Package: MSstatsLiP Version: 1.13.0 Command: E:\biocbuild\bbs-3.21-bioc\R\bin\R.exe CMD check --no-multiarch --install=check:MSstatsLiP.install-out.txt --library=E:\biocbuild\bbs-3.21-bioc\R\library --no-vignettes --timings MSstatsLiP_1.13.0.tar.gz StartedAt: 2025-02-20 03:24:35 -0500 (Thu, 20 Feb 2025) EndedAt: 2025-02-20 03:28:53 -0500 (Thu, 20 Feb 2025) EllapsedTime: 258.3 seconds RetCode: 0 Status: OK CheckDir: MSstatsLiP.Rcheck Warnings: 0