Package: MSstatsLiP Version: 1.13.0 Command: /home/biocbuild/bbs-3.21-bioc/R/bin/R CMD check --install=check:MSstatsLiP.install-out.txt --library=/home/biocbuild/bbs-3.21-bioc/R/site-library --timings MSstatsLiP_1.13.0.tar.gz StartedAt: 2025-02-19 00:15:09 -0500 (Wed, 19 Feb 2025) EndedAt: 2025-02-19 00:19:02 -0500 (Wed, 19 Feb 2025) EllapsedTime: 232.3 seconds RetCode: 0 Status: OK CheckDir: MSstatsLiP.Rcheck Warnings: 0