Package: MSstatsLiP Version: 1.13.0 Command: /Library/Frameworks/R.framework/Resources/bin/R CMD INSTALL MSstatsLiP StartedAt: 2025-02-19 15:43:44 -0500 (Wed, 19 Feb 2025) EndedAt: 2025-02-19 15:44:17 -0500 (Wed, 19 Feb 2025) EllapsedTime: 33.6 seconds RetCode: 0 Status: OK