Package: MSstatsLiP Version: 1.13.0 Command: /Library/Frameworks/R.framework/Resources/bin/R CMD check --install=check:MSstatsLiP.install-out.txt --library=/Library/Frameworks/R.framework/Resources/library --no-vignettes --timings MSstatsLiP_1.13.0.tar.gz StartedAt: 2025-02-20 21:53:11 -0500 (Thu, 20 Feb 2025) EndedAt: 2025-02-20 21:56:58 -0500 (Thu, 20 Feb 2025) EllapsedTime: 227.7 seconds RetCode: 0 Status: OK CheckDir: MSstatsLiP.Rcheck Warnings: 0