Package: MSstatsLiP Version: 1.13.0 Command: /Library/Frameworks/R.framework/Resources/bin/R CMD build --keep-empty-dirs --no-resave-data MSstatsLiP StartedAt: 2025-02-20 17:31:27 -0500 (Thu, 20 Feb 2025) EndedAt: 2025-02-20 17:32:35 -0500 (Thu, 20 Feb 2025) EllapsedTime: 68.4 seconds RetCode: 0 Status: OK PackageFile: MSstatsLiP_1.13.0.tar.gz PackageFileSize: 2.003 MiB