Package: MSstatsLOBD Version: 1.15.0 Command: E:\biocbuild\bbs-3.21-bioc\R\bin\R.exe CMD INSTALL MSstatsLOBD StartedAt: 2025-02-17 15:31:52 -0500 (Mon, 17 Feb 2025) EndedAt: 2025-02-17 15:32:04 -0500 (Mon, 17 Feb 2025) EllapsedTime: 11.8 seconds RetCode: 0 Status: OK