Package: MSstatsLOBD Version: 1.15.0 Command: E:\biocbuild\bbs-3.21-bioc\R\bin\R.exe CMD check --no-multiarch --install=check:MSstatsLOBD.install-out.txt --library=E:\biocbuild\bbs-3.21-bioc\R\library --no-vignettes --timings MSstatsLOBD_1.15.0.tar.gz StartedAt: 2025-02-18 03:10:54 -0500 (Tue, 18 Feb 2025) EndedAt: 2025-02-18 03:11:39 -0500 (Tue, 18 Feb 2025) EllapsedTime: 45.0 seconds RetCode: 0 Status: OK CheckDir: MSstatsLOBD.Rcheck Warnings: 0