Package: MSstatsLOBD Version: 1.15.0 Command: chmod a+r MSstatsLOBD -R && E:\biocbuild\bbs-3.21-bioc\R\bin\R.exe CMD build --keep-empty-dirs --no-resave-data MSstatsLOBD StartedAt: 2025-02-17 20:05:44 -0500 (Mon, 17 Feb 2025) EndedAt: 2025-02-17 20:06:26 -0500 (Mon, 17 Feb 2025) EllapsedTime: 41.7 seconds RetCode: 0 Status: OK PackageFile: MSstatsLOBD_1.15.0.tar.gz PackageFileSize: 137.6 KiB