Package: MSstatsLOBD Version: 1.15.0 Command: rm -rf MSstatsLOBD.buildbin-libdir && mkdir MSstatsLOBD.buildbin-libdir && E:\biocbuild\bbs-3.21-bioc\R\bin\R.exe CMD INSTALL --build --library=MSstatsLOBD.buildbin-libdir MSstatsLOBD_1.15.0.tar.gz StartedAt: 2025-02-18 07:49:39 -0500 (Tue, 18 Feb 2025) EndedAt: 2025-02-18 07:50:00 -0500 (Tue, 18 Feb 2025) EllapsedTime: 20.9 seconds RetCode: 0 Status: OK PackageFile: MSstatsLOBD_1.15.0.zip PackageFileSize: 184.6 KiB