Package: MSstatsLOBD Version: 1.15.0 Command: /home/biocbuild/bbs-3.21-bioc/R/bin/R CMD INSTALL MSstatsLOBD StartedAt: 2025-02-17 15:08:41 -0500 (Mon, 17 Feb 2025) EndedAt: 2025-02-17 15:08:51 -0500 (Mon, 17 Feb 2025) EllapsedTime: 9.5 seconds RetCode: 0 Status: OK