Package: MSstatsLOBD Version: 1.15.0 Command: /home/biocbuild/bbs-3.21-bioc/R/bin/R CMD build --keep-empty-dirs --no-resave-data MSstatsLOBD StartedAt: 2025-02-17 18:14:31 -0500 (Mon, 17 Feb 2025) EndedAt: 2025-02-17 18:14:50 -0500 (Mon, 17 Feb 2025) EllapsedTime: 19.0 seconds RetCode: 0 Status: OK PackageFile: MSstatsLOBD_1.15.0.tar.gz PackageFileSize: 370.3 KiB