Package: MSstatsLOBD Version: 1.15.0 Command: /Library/Frameworks/R.framework/Resources/bin/R CMD build --keep-empty-dirs --no-resave-data MSstatsLOBD StartedAt: 2025-02-19 17:31:58 -0500 (Wed, 19 Feb 2025) EndedAt: 2025-02-19 17:32:28 -0500 (Wed, 19 Feb 2025) EllapsedTime: 29.7 seconds RetCode: 0 Status: OK PackageFile: MSstatsLOBD_1.15.0.tar.gz PackageFileSize: 340 KiB