Package: MSstatsLOBD Version: 1.15.0 Command: rm -rf MSstatsLOBD.buildbin-libdir && mkdir MSstatsLOBD.buildbin-libdir && /Users/biocbuild/BBS/utils/build-universal.sh MSstatsLOBD_1.15.0.tar.gz /Library/Frameworks/R.framework/Resources/bin/R MSstatsLOBD.buildbin-libdir StartedAt: 2025-02-20 00:43:21 -0500 (Thu, 20 Feb 2025) EndedAt: 2025-02-20 00:43:30 -0500 (Thu, 20 Feb 2025) EllapsedTime: 9.2 seconds RetCode: 0 Status: OK PackageFile: MSstatsLOBD_1.15.0.tgz PackageFileSize: 382.1 KiB