Package: MSstatsLOBD Version: 1.15.0 Command: /home/biocbuild/R/R/bin/R CMD build --keep-empty-dirs --no-resave-data MSstatsLOBD StartedAt: 2025-01-29 00:42:39 -0000 (Wed, 29 Jan 2025) EndedAt: 2025-01-29 00:43:09 -0000 (Wed, 29 Jan 2025) EllapsedTime: 30.0 seconds RetCode: 0 Status: OK PackageFile: MSstatsLOBD_1.15.0.tar.gz PackageFileSize: 184.9 KiB