Package: MSstatsLOBD Version: 1.15.0 Command: /Library/Frameworks/R.framework/Resources/bin/R CMD INSTALL MSstatsLOBD StartedAt: 2025-02-17 15:06:10 -0500 (Mon, 17 Feb 2025) EndedAt: 2025-02-17 15:06:13 -0500 (Mon, 17 Feb 2025) EllapsedTime: 2.8 seconds RetCode: 0 Status: OK