Package: MSstatsLOBD Version: 1.15.0 Command: rm -rf MSstatsLOBD.buildbin-libdir && mkdir MSstatsLOBD.buildbin-libdir && /Users/biocbuild/BBS/utils/build-universal.sh MSstatsLOBD_1.15.0.tar.gz /Library/Frameworks/R.framework/Resources/bin/R MSstatsLOBD.buildbin-libdir StartedAt: 2025-02-17 22:25:49 -0500 (Mon, 17 Feb 2025) EndedAt: 2025-02-17 22:25:52 -0500 (Mon, 17 Feb 2025) EllapsedTime: 3.1 seconds RetCode: 0 Status: OK PackageFile: MSstatsLOBD_1.15.0.tgz PackageFileSize: 383.2 KiB