Package: MSstatsConvert Version: 1.17.1 Command: E:\biocbuild\bbs-3.21-bioc\R\bin\R.exe CMD check --no-multiarch --install=check:MSstatsConvert.install-out.txt --library=E:\biocbuild\bbs-3.21-bioc\R\library --no-vignettes --timings MSstatsConvert_1.17.1.tar.gz StartedAt: 2025-02-21 03:40:09 -0500 (Fri, 21 Feb 2025) EndedAt: 2025-02-21 03:41:01 -0500 (Fri, 21 Feb 2025) EllapsedTime: 52.3 seconds RetCode: 0 Status: WARNINGS CheckDir: MSstatsConvert.Rcheck Warnings: 3