Package: MSstatsConvert Version: 1.17.1 Command: chmod a+r MSstatsConvert -R && E:\biocbuild\bbs-3.21-bioc\R\bin\R.exe CMD build --keep-empty-dirs --no-resave-data MSstatsConvert StartedAt: 2025-02-21 20:52:32 -0500 (Fri, 21 Feb 2025) EndedAt: 2025-02-21 20:53:50 -0500 (Fri, 21 Feb 2025) EllapsedTime: 78.2 seconds RetCode: 0 Status: OK PackageFile: MSstatsConvert_1.17.1.tar.gz PackageFileSize: 1.802 MiB