Package: MSstatsConvert Version: 1.17.1 Command: rm -rf MSstatsConvert.buildbin-libdir && mkdir MSstatsConvert.buildbin-libdir && E:\biocbuild\bbs-3.21-bioc\R\bin\R.exe CMD INSTALL --build --library=MSstatsConvert.buildbin-libdir MSstatsConvert_1.17.1.tar.gz StartedAt: 2025-02-22 08:50:32 -0500 (Sat, 22 Feb 2025) EndedAt: 2025-02-22 08:58:44 -0500 (Sat, 22 Feb 2025) EllapsedTime: 491.7 seconds RetCode: 0 Status: OK PackageFile: MSstatsConvert_1.17.1.zip PackageFileSize: 2.112 MiB