Package: MSstatsConvert Version: 1.17.1 Command: /Library/Frameworks/R.framework/Resources/bin/R CMD INSTALL MSstatsConvert StartedAt: 2025-02-20 15:06:19 -0500 (Thu, 20 Feb 2025) EndedAt: 2025-02-20 15:06:47 -0500 (Thu, 20 Feb 2025) EllapsedTime: 28.0 seconds RetCode: 0 Status: OK