Package: MSstatsConvert Version: 1.17.1 Command: /Library/Frameworks/R.framework/Resources/bin/R CMD check --install=check:MSstatsConvert.install-out.txt --library=/Library/Frameworks/R.framework/Resources/library --no-vignettes --timings MSstatsConvert_1.17.1.tar.gz StartedAt: 2025-02-20 21:53:00 -0500 (Thu, 20 Feb 2025) EndedAt: 2025-02-20 21:53:45 -0500 (Thu, 20 Feb 2025) EllapsedTime: 44.4 seconds RetCode: 0 Status: WARNINGS CheckDir: MSstatsConvert.Rcheck Warnings: 3