Package: MSstatsConvert Version: 1.17.1 Command: /Library/Frameworks/R.framework/Resources/bin/R CMD build --keep-empty-dirs --no-resave-data MSstatsConvert StartedAt: 2025-02-20 17:31:19 -0500 (Thu, 20 Feb 2025) EndedAt: 2025-02-20 17:31:33 -0500 (Thu, 20 Feb 2025) EllapsedTime: 13.7 seconds RetCode: 0 Status: OK PackageFile: MSstatsConvert_1.17.1.tar.gz PackageFileSize: 1.802 MiB