Package: MSstatsConvert Version: 1.17.1 Command: /Library/Frameworks/R.framework/Resources/bin/R CMD INSTALL MSstatsConvert StartedAt: 2025-02-21 15:03:02 -0500 (Fri, 21 Feb 2025) EndedAt: 2025-02-21 15:03:08 -0500 (Fri, 21 Feb 2025) EllapsedTime: 5.7 seconds RetCode: 0 Status: OK