Package: MSstatsBioNet Version: 1.0.0 Command: /home/biocbuild/R/R/bin/R CMD INSTALL MSstatsBioNet StartedAt: 2025-10-13 20:26:28 -0000 (Mon, 13 Oct 2025) EndedAt: 2025-10-13 20:26:47 -0000 (Mon, 13 Oct 2025) EllapsedTime: 19.4 seconds RetCode: 0 Status: OK