Package: MSstatsBioNet Version: 1.0.0 Command: /home/biocbuild/R/R/bin/R CMD build --keep-empty-dirs --no-resave-data MSstatsBioNet StartedAt: 2025-10-14 02:53:28 -0000 (Tue, 14 Oct 2025) EndedAt: 2025-10-14 02:53:57 -0000 (Tue, 14 Oct 2025) EllapsedTime: 29.0 seconds RetCode: 1 Status: ERROR PackageFile: None PackageFileSize: NA