Package: MSstats Version: 4.15.1 Command: /home/biocbuild/bbs-3.21-bioc/R/bin/R CMD INSTALL MSstats StartedAt: 2025-02-18 15:09:55 -0500 (Tue, 18 Feb 2025) EndedAt: 2025-02-18 15:10:35 -0500 (Tue, 18 Feb 2025) EllapsedTime: 40.4 seconds RetCode: 0 Status: OK