Package: MSstats Version: 4.15.1 Command: /Library/Frameworks/R.framework/Resources/bin/R CMD check --install=check:MSstats.install-out.txt --library=/Library/Frameworks/R.framework/Resources/library --no-vignettes --timings MSstats_4.15.1.tar.gz StartedAt: 2025-02-19 21:52:53 -0500 (Wed, 19 Feb 2025) EndedAt: 2025-02-19 21:55:12 -0500 (Wed, 19 Feb 2025) EllapsedTime: 139.8 seconds RetCode: 0 Status: WARNINGS CheckDir: MSstats.Rcheck Warnings: 1