Package: MSstats Version: 4.15.1 Command: /Library/Frameworks/R.framework/Resources/bin/R CMD INSTALL MSstats StartedAt: 2025-02-19 15:20:30 -0500 (Wed, 19 Feb 2025) EndedAt: 2025-02-19 15:20:42 -0500 (Wed, 19 Feb 2025) EllapsedTime: 12.7 seconds RetCode: 0 Status: OK