Package: MSnbase Version: 2.33.2 Command: /Library/Frameworks/R.framework/Resources/bin/R CMD check --install=check:MSnbase.install-out.txt --library=/Library/Frameworks/R.framework/Resources/library --no-vignettes --timings MSnbase_2.33.2.tar.gz StartedAt: 2025-02-20 20:22:02 -0500 (Thu, 20 Feb 2025) EndedAt: 2025-02-20 20:28:18 -0500 (Thu, 20 Feb 2025) EllapsedTime: 375.7 seconds RetCode: 1 Status: ERROR CheckDir: MSnbase.Rcheck Warnings: NA