Package: MSnID Version: 1.41.0 Command: E:\biocbuild\bbs-3.21-bioc\R\bin\R.exe CMD check --no-multiarch --install=check:MSnID.install-out.txt --library=E:\biocbuild\bbs-3.21-bioc\R\library --no-vignettes --timings MSnID_1.41.0.tar.gz StartedAt: 2025-02-20 03:21:22 -0500 (Thu, 20 Feb 2025) EndedAt: 2025-02-20 03:29:16 -0500 (Thu, 20 Feb 2025) EllapsedTime: 474.5 seconds RetCode: 0 Status: OK CheckDir: MSnID.Rcheck Warnings: 0