Package: MSnID Version: 1.41.0 Command: /Library/Frameworks/R.framework/Resources/bin/R CMD build --keep-empty-dirs --no-resave-data MSnID StartedAt: 2025-02-20 17:29:47 -0500 (Thu, 20 Feb 2025) EndedAt: 2025-02-20 17:32:26 -0500 (Thu, 20 Feb 2025) EllapsedTime: 158.7 seconds RetCode: 0 Status: OK PackageFile: MSnID_1.41.0.tar.gz PackageFileSize: 3.003 MiB