Package: MSnID Version: 1.41.0 Command: /Library/Frameworks/R.framework/Resources/bin/R CMD check --install=check:MSnID.install-out.txt --library=/Library/Frameworks/R.framework/Resources/library --no-vignettes --timings MSnID_1.41.0.tar.gz StartedAt: 2025-02-19 20:25:17 -0500 (Wed, 19 Feb 2025) EndedAt: 2025-02-19 20:27:56 -0500 (Wed, 19 Feb 2025) EllapsedTime: 158.9 seconds RetCode: 1 Status: ERROR CheckDir: MSnID.Rcheck Warnings: NA