Package: MSPrep Version: 1.17.0 Command: /Library/Frameworks/R.framework/Resources/bin/R CMD build --keep-empty-dirs --no-resave-data MSPrep StartedAt: 2025-02-17 17:28:54 -0500 (Mon, 17 Feb 2025) EndedAt: 2025-02-17 17:31:47 -0500 (Mon, 17 Feb 2025) EllapsedTime: 173.2 seconds RetCode: 0 Status: OK PackageFile: MSPrep_1.17.0.tar.gz PackageFileSize: 1.574 MiB