Package: MSA2dist Version: 1.11.1 Command: E:\biocbuild\bbs-3.21-bioc\R\bin\R.exe CMD check --no-multiarch --install=check:MSA2dist.install-out.txt --library=E:\biocbuild\bbs-3.21-bioc\R\library --no-vignettes --timings MSA2dist_1.11.1.tar.gz StartedAt: 2025-02-21 03:32:33 -0500 (Fri, 21 Feb 2025) EndedAt: 2025-02-21 03:42:15 -0500 (Fri, 21 Feb 2025) EllapsedTime: 581.7 seconds RetCode: 0 Status: OK CheckDir: MSA2dist.Rcheck Warnings: 0