Package: MSA2dist Version: 1.11.1 Command: rm -rf MSA2dist.buildbin-libdir && mkdir MSA2dist.buildbin-libdir && E:\biocbuild\bbs-3.21-bioc\R\bin\R.exe CMD INSTALL --build --library=MSA2dist.buildbin-libdir MSA2dist_1.11.1.tar.gz StartedAt: 2025-02-21 08:36:04 -0500 (Fri, 21 Feb 2025) EndedAt: 2025-02-21 08:37:32 -0500 (Fri, 21 Feb 2025) EllapsedTime: 88.6 seconds RetCode: 0 Status: OK PackageFile: MSA2dist_1.11.1.zip PackageFileSize: 1.274 MiB