Package: MPRAnalyze Version: 1.25.0 Command: E:\biocbuild\bbs-3.21-bioc\R\bin\R.exe CMD INSTALL MPRAnalyze StartedAt: 2025-02-20 16:10:59 -0500 (Thu, 20 Feb 2025) EndedAt: 2025-02-20 16:11:41 -0500 (Thu, 20 Feb 2025) EllapsedTime: 41.6 seconds RetCode: 0 Status: OK