Package: MPRAnalyze Version: 1.25.0 Command: chmod a+r MPRAnalyze -R && E:\biocbuild\bbs-3.21-bioc\R\bin\R.exe CMD build --keep-empty-dirs --no-resave-data MPRAnalyze StartedAt: 2025-02-20 20:09:54 -0500 (Thu, 20 Feb 2025) EndedAt: 2025-02-20 20:11:38 -0500 (Thu, 20 Feb 2025) EllapsedTime: 104.6 seconds RetCode: 0 Status: OK PackageFile: MPRAnalyze_1.25.0.tar.gz PackageFileSize: 336.1 KiB