Package: MPRAnalyze Version: 1.25.0 Command: rm -rf MPRAnalyze.buildbin-libdir && mkdir MPRAnalyze.buildbin-libdir && E:\biocbuild\bbs-3.21-bioc\R\bin\R.exe CMD INSTALL --build --library=MPRAnalyze.buildbin-libdir MPRAnalyze_1.25.0.tar.gz StartedAt: 2025-02-21 08:35:55 -0500 (Fri, 21 Feb 2025) EndedAt: 2025-02-21 08:36:40 -0500 (Fri, 21 Feb 2025) EllapsedTime: 45.0 seconds RetCode: 0 Status: OK PackageFile: MPRAnalyze_1.25.0.zip PackageFileSize: 567.7 KiB