Package: MPRAnalyze Version: 1.25.0 Command: /home/biocbuild/bbs-3.21-bioc/R/bin/R CMD INSTALL MPRAnalyze StartedAt: 2025-02-21 16:03:17 -0500 (Fri, 21 Feb 2025) EndedAt: 2025-02-21 16:03:39 -0500 (Fri, 21 Feb 2025) EllapsedTime: 22.5 seconds RetCode: 0 Status: OK