Package: MPRAnalyze Version: 1.25.0 Command: /Library/Frameworks/R.framework/Resources/bin/R CMD INSTALL MPRAnalyze StartedAt: 2025-02-20 15:22:28 -0500 (Thu, 20 Feb 2025) EndedAt: 2025-02-20 15:22:59 -0500 (Thu, 20 Feb 2025) EllapsedTime: 31.3 seconds RetCode: 0 Status: OK