Package: MPRAnalyze Version: 1.25.0 Command: /Library/Frameworks/R.framework/Resources/bin/R CMD INSTALL MPRAnalyze StartedAt: 2025-02-21 15:10:21 -0500 (Fri, 21 Feb 2025) EndedAt: 2025-02-21 15:10:31 -0500 (Fri, 21 Feb 2025) EllapsedTime: 9.7 seconds RetCode: 0 Status: OK